BEGIN:VCALENDAR
VERSION:2.0
PRODID:-//The Hellenic Center - ECPv6.15.17.1//NONSGML v1.0//EN
CALSCALE:GREGORIAN
METHOD:PUBLISH
X-WR-CALNAME:The Hellenic Center
X-ORIGINAL-URL:https://helleniccenter.org
X-WR-CALDESC:Events for The Hellenic Center
REFRESH-INTERVAL;VALUE=DURATION:PT1H
X-Robots-Tag:noindex
X-PUBLISHED-TTL:PT1H
BEGIN:VTIMEZONE
TZID:UTC
BEGIN:STANDARD
TZOFFSETFROM:+0000
TZOFFSETTO:+0000
TZNAME:UTC
DTSTART:20240101T000000
END:STANDARD
END:VTIMEZONE
BEGIN:VEVENT
DTSTART;VALUE=DATE:20250916
DTEND;VALUE=DATE:20250917
DTSTAMP:20260424T111552
CREATED:20250503T021238Z
LAST-MODIFIED:20250503T021238Z
UID:25929-1757980800-1758067199@helleniccenter.org
SUMMARY:Vourvoura Society Monthly Meeting
DESCRIPTION:
URL:https://helleniccenter.org/event/vourvoura-society-monthly-meeting-5/
CATEGORIES:2nd Floor - Board Room
END:VEVENT
BEGIN:VEVENT
DTSTART;VALUE=DATE:20250913
DTEND;VALUE=DATE:20250914
DTSTAMP:20260424T111552
CREATED:20250503T021204Z
LAST-MODIFIED:20250503T021204Z
UID:25927-1757721600-1757807999@helleniccenter.org
SUMMARY:Epirotic Society Monthly Meeting
DESCRIPTION:
URL:https://helleniccenter.org/event/epirotic-society-monthly-meeting-5/
CATEGORIES:2nd Floor - Board Room
END:VEVENT
BEGIN:VEVENT
DTSTART;VALUE=DATE:20250911
DTEND;VALUE=DATE:20250912
DTSTAMP:20260424T111552
CREATED:20250503T021126Z
LAST-MODIFIED:20250503T021126Z
UID:25925-1757548800-1757635199@helleniccenter.org
SUMMARY:AHEPA #383 Monthly Meeting
DESCRIPTION:
URL:https://helleniccenter.org/event/ahepa-383-monthly-meeting-5/
CATEGORIES:2nd Floor - Board Room
END:VEVENT
BEGIN:VEVENT
DTSTART;VALUE=DATE:20250910
DTEND;VALUE=DATE:20250911
DTSTAMP:20260424T111552
CREATED:20250503T021051Z
LAST-MODIFIED:20250503T021051Z
UID:25923-1757462400-1757548799@helleniccenter.org
SUMMARY:Prometheas Monthly Meeting
DESCRIPTION:
URL:https://helleniccenter.org/event/prometheas-monthly-meeting-5/
CATEGORIES:2nd Floor - Board Room
END:VEVENT
BEGIN:VEVENT
DTSTART;VALUE=DATE:20250908
DTEND;VALUE=DATE:20250909
DTSTAMP:20260424T111552
CREATED:20250503T021016Z
LAST-MODIFIED:20250503T021016Z
UID:25921-1757289600-1757375999@helleniccenter.org
SUMMARY:Pancretan Association Monthly Meeting
DESCRIPTION:
URL:https://helleniccenter.org/event/pancretan-association-monthly-meeting-5/
CATEGORIES:2nd Floor - Board Room
END:VEVENT
BEGIN:VEVENT
DTSTART;VALUE=DATE:20250903
DTEND;VALUE=DATE:20250904
DTSTAMP:20260424T111552
CREATED:20250503T020937Z
LAST-MODIFIED:20250503T020937Z
UID:25919-1756857600-1756943999@helleniccenter.org
SUMMARY:Hellenic Center Monthly Board Meeting
DESCRIPTION:
URL:https://helleniccenter.org/event/hellenic-center-monthly-board-meeting-5/
CATEGORIES:2nd Floor - Board Room
END:VEVENT
BEGIN:VEVENT
DTSTART;VALUE=DATE:20250902
DTEND;VALUE=DATE:20250903
DTSTAMP:20260424T111552
CREATED:20250503T020906Z
LAST-MODIFIED:20250503T020906Z
UID:25917-1756771200-1756857599@helleniccenter.org
SUMMARY:Laconian Society Monthly Meeting
DESCRIPTION:
URL:https://helleniccenter.org/event/laconian-society-monthly-meeting-5/
CATEGORIES:2nd Floor - Board Room
END:VEVENT
BEGIN:VEVENT
DTSTART;VALUE=DATE:20250901
DTEND;VALUE=DATE:20250902
DTSTAMP:20260424T111552
CREATED:20250503T020832Z
LAST-MODIFIED:20250503T020832Z
UID:25915-1756684800-1756771199@helleniccenter.org
SUMMARY:Roumeliotes Monthly Meeting
DESCRIPTION:
URL:https://helleniccenter.org/event/roumeliotes-monthly-meeting-5/
CATEGORIES:2nd Floor - Board Room
END:VEVENT
BEGIN:VEVENT
DTSTART;VALUE=DATE:20250819
DTEND;VALUE=DATE:20250820
DTSTAMP:20260424T111552
CREATED:20250503T020752Z
LAST-MODIFIED:20250503T020752Z
UID:25913-1755561600-1755647999@helleniccenter.org
SUMMARY:Vourvoura Society Monthly Meeting
DESCRIPTION:
URL:https://helleniccenter.org/event/vourvoura-society-monthly-meeting-4/
CATEGORIES:2nd Floor - Board Room
END:VEVENT
BEGIN:VEVENT
DTSTART;VALUE=DATE:20250816
DTEND;VALUE=DATE:20250817
DTSTAMP:20260424T111552
CREATED:20250503T020724Z
LAST-MODIFIED:20250503T020724Z
UID:25911-1755302400-1755388799@helleniccenter.org
SUMMARY:Cretan Association Monthly Meeting
DESCRIPTION:
URL:https://helleniccenter.org/event/cretan-association-monthly-meeting-4/
CATEGORIES:2nd Floor - Board Room
END:VEVENT
BEGIN:VEVENT
DTSTART;VALUE=DATE:20250814
DTEND;VALUE=DATE:20250815
DTSTAMP:20260424T111552
CREATED:20250503T020658Z
LAST-MODIFIED:20250503T020658Z
UID:25909-1755129600-1755215999@helleniccenter.org
SUMMARY:AHEPA #383 Monthly Meeting
DESCRIPTION:
URL:https://helleniccenter.org/event/ahepa-383-monthly-meeting-4/
CATEGORIES:2nd Floor - Board Room
END:VEVENT
BEGIN:VEVENT
DTSTART;VALUE=DATE:20250813
DTEND;VALUE=DATE:20250814
DTSTAMP:20260424T111552
CREATED:20250503T020616Z
LAST-MODIFIED:20250503T020616Z
UID:25907-1755043200-1755129599@helleniccenter.org
SUMMARY:Prometheas Monthly Meeting
DESCRIPTION:
URL:https://helleniccenter.org/event/prometheas-monthly-meeting-4/
CATEGORIES:2nd Floor - Board Room
END:VEVENT
BEGIN:VEVENT
DTSTART;VALUE=DATE:20250811
DTEND;VALUE=DATE:20250812
DTSTAMP:20260424T111552
CREATED:20250503T020546Z
LAST-MODIFIED:20250503T020546Z
UID:25905-1754870400-1754956799@helleniccenter.org
SUMMARY:Pancretan Association Monthly Meeting
DESCRIPTION:
URL:https://helleniccenter.org/event/pancretan-association-monthly-meeting-4/
CATEGORIES:2nd Floor - Board Room
END:VEVENT
BEGIN:VEVENT
DTSTART;VALUE=DATE:20250809
DTEND;VALUE=DATE:20250810
DTSTAMP:20260424T111552
CREATED:20250503T015826Z
LAST-MODIFIED:20250503T015826Z
UID:25903-1754697600-1754783999@helleniccenter.org
SUMMARY:Epirotic Society Monthly Meeting
DESCRIPTION:
URL:https://helleniccenter.org/event/epirotic-society-monthly-meeting-4/
CATEGORIES:2nd Floor - Board Room
END:VEVENT
BEGIN:VEVENT
DTSTART;VALUE=DATE:20250806
DTEND;VALUE=DATE:20250807
DTSTAMP:20260424T111552
CREATED:20250503T015751Z
LAST-MODIFIED:20250503T015751Z
UID:25901-1754438400-1754524799@helleniccenter.org
SUMMARY:Hellenic Center Monthly Board Meeting
DESCRIPTION:
URL:https://helleniccenter.org/event/hellenic-center-monthly-board-meeting-4/
CATEGORIES:2nd Floor - Board Room
END:VEVENT
BEGIN:VEVENT
DTSTART;VALUE=DATE:20250805
DTEND;VALUE=DATE:20250806
DTSTAMP:20260424T111552
CREATED:20250503T015717Z
LAST-MODIFIED:20250503T015717Z
UID:25899-1754352000-1754438399@helleniccenter.org
SUMMARY:Laconian Society Monthly Meeting
DESCRIPTION:
URL:https://helleniccenter.org/event/laconian-society-monthly-meeting-4/
CATEGORIES:2nd Floor - Board Room
END:VEVENT
BEGIN:VEVENT
DTSTART;VALUE=DATE:20250804
DTEND;VALUE=DATE:20250805
DTSTAMP:20260424T111552
CREATED:20250503T015636Z
LAST-MODIFIED:20250503T015636Z
UID:25897-1754265600-1754351999@helleniccenter.org
SUMMARY:Roumeliotes Monthly Meeting
DESCRIPTION:
URL:https://helleniccenter.org/event/roumeliotes-monthly-meeting-4/
CATEGORIES:2nd Floor - Board Room
END:VEVENT
BEGIN:VEVENT
DTSTART;VALUE=DATE:20250719
DTEND;VALUE=DATE:20250720
DTSTAMP:20260424T111552
CREATED:20250503T015601Z
LAST-MODIFIED:20250503T015601Z
UID:25895-1752883200-1752969599@helleniccenter.org
SUMMARY:Cretan Association Monthly Meeting
DESCRIPTION:
URL:https://helleniccenter.org/event/cretan-association-monthly-meeting-3/
CATEGORIES:2nd Floor - Board Room
END:VEVENT
BEGIN:VEVENT
DTSTART;VALUE=DATE:20250715
DTEND;VALUE=DATE:20250716
DTSTAMP:20260424T111552
CREATED:20250503T015518Z
LAST-MODIFIED:20250503T015518Z
UID:25893-1752537600-1752623999@helleniccenter.org
SUMMARY:Vourvoura Society Monthly Meeting
DESCRIPTION:
URL:https://helleniccenter.org/event/vourvoura-society-monthly-meeting-3/
CATEGORIES:2nd Floor - Board Room
END:VEVENT
BEGIN:VEVENT
DTSTART;VALUE=DATE:20250714
DTEND;VALUE=DATE:20250715
DTSTAMP:20260424T111552
CREATED:20250503T015436Z
LAST-MODIFIED:20250503T015436Z
UID:25891-1752451200-1752537599@helleniccenter.org
SUMMARY:Pancretan Association Monthly Meeting
DESCRIPTION:
URL:https://helleniccenter.org/event/pancretan-association-monthly-meeting-3/
CATEGORIES:2nd Floor - Board Room
END:VEVENT
BEGIN:VEVENT
DTSTART;VALUE=DATE:20250712
DTEND;VALUE=DATE:20250713
DTSTAMP:20260424T111552
CREATED:20250503T015349Z
LAST-MODIFIED:20250503T015349Z
UID:25889-1752278400-1752364799@helleniccenter.org
SUMMARY:Epirotic Society Monthly Meeting
DESCRIPTION:
URL:https://helleniccenter.org/event/epirotic-society-monthly-meeting-3/
CATEGORIES:2nd Floor - Board Room
END:VEVENT
BEGIN:VEVENT
DTSTART;VALUE=DATE:20250710
DTEND;VALUE=DATE:20250711
DTSTAMP:20260424T111552
CREATED:20250503T015251Z
LAST-MODIFIED:20250503T015251Z
UID:25887-1752105600-1752191999@helleniccenter.org
SUMMARY:AHEPA #383 Monthly Meeting
DESCRIPTION:
URL:https://helleniccenter.org/event/ahepa-383-monthly-meeting-3/
CATEGORIES:2nd Floor - Board Room
END:VEVENT
BEGIN:VEVENT
DTSTART;VALUE=DATE:20250709
DTEND;VALUE=DATE:20250710
DTSTAMP:20260424T111552
CREATED:20250503T015205Z
LAST-MODIFIED:20250503T015205Z
UID:25885-1752019200-1752105599@helleniccenter.org
SUMMARY:Prometheas Monthly Meeting
DESCRIPTION:
URL:https://helleniccenter.org/event/prometheas-monthly-meeting-3/
CATEGORIES:2nd Floor - Board Room
END:VEVENT
BEGIN:VEVENT
DTSTART;VALUE=DATE:20250707
DTEND;VALUE=DATE:20250708
DTSTAMP:20260424T111552
CREATED:20250503T015124Z
LAST-MODIFIED:20250503T015124Z
UID:25883-1751846400-1751932799@helleniccenter.org
SUMMARY:Roumeliotes Monthly Meeting
DESCRIPTION:
URL:https://helleniccenter.org/event/roumeliotes-monthly-meeting-3/
CATEGORIES:2nd Floor - Board Room
END:VEVENT
BEGIN:VEVENT
DTSTART;VALUE=DATE:20250702
DTEND;VALUE=DATE:20250703
DTSTAMP:20260424T111552
CREATED:20250503T015036Z
LAST-MODIFIED:20250503T015036Z
UID:25881-1751414400-1751500799@helleniccenter.org
SUMMARY:Hellenic Center Monthly Board Meeting
DESCRIPTION:
URL:https://helleniccenter.org/event/hellenic-center-monthly-board-meeting-3/
CATEGORIES:2nd Floor - Board Room
END:VEVENT
BEGIN:VEVENT
DTSTART;VALUE=DATE:20250701
DTEND;VALUE=DATE:20250702
DTSTAMP:20260424T111552
CREATED:20250503T014946Z
LAST-MODIFIED:20250503T014946Z
UID:25879-1751328000-1751414399@helleniccenter.org
SUMMARY:Laconian Society Monthly Meeting
DESCRIPTION:
URL:https://helleniccenter.org/event/laconian-society-monthly-meeting-3/
CATEGORIES:2nd Floor - Board Room
END:VEVENT
BEGIN:VEVENT
DTSTART;VALUE=DATE:20250621
DTEND;VALUE=DATE:20250622
DTSTAMP:20260424T111552
CREATED:20250503T014904Z
LAST-MODIFIED:20250503T014904Z
UID:25877-1750464000-1750550399@helleniccenter.org
SUMMARY:Cretan Association Monthly Meeting
DESCRIPTION:
URL:https://helleniccenter.org/event/cretan-association-monthly-meeting-2/
CATEGORIES:2nd Floor - Board Room
END:VEVENT
BEGIN:VEVENT
DTSTART;VALUE=DATE:20250617
DTEND;VALUE=DATE:20250618
DTSTAMP:20260424T111552
CREATED:20250503T014815Z
LAST-MODIFIED:20250503T014815Z
UID:25875-1750118400-1750204799@helleniccenter.org
SUMMARY:Vourvoura Society Monthly Meeting
DESCRIPTION:
URL:https://helleniccenter.org/event/vourvoura-society-monthly-meeting-2/
CATEGORIES:2nd Floor - Board Room
END:VEVENT
BEGIN:VEVENT
DTSTART;VALUE=DATE:20250614
DTEND;VALUE=DATE:20250615
DTSTAMP:20260424T111552
CREATED:20250503T014743Z
LAST-MODIFIED:20250503T014743Z
UID:25873-1749859200-1749945599@helleniccenter.org
SUMMARY:Epirotic Society Monthly Meeting
DESCRIPTION:
URL:https://helleniccenter.org/event/epirotic-society-monthly-meeting-2/
CATEGORIES:2nd Floor - Board Room
END:VEVENT
BEGIN:VEVENT
DTSTART;VALUE=DATE:20250612
DTEND;VALUE=DATE:20250613
DTSTAMP:20260424T111552
CREATED:20250503T014714Z
LAST-MODIFIED:20250503T014714Z
UID:25871-1749686400-1749772799@helleniccenter.org
SUMMARY:AHEPA #383 Monthly Meeting
DESCRIPTION:
URL:https://helleniccenter.org/event/ahepa-383-monthly-meeting-2/
CATEGORIES:2nd Floor - Board Room
END:VEVENT
END:VCALENDAR