BEGIN:VCALENDAR
VERSION:2.0
PRODID:-//The Hellenic Center - ECPv6.15.17.1//NONSGML v1.0//EN
CALSCALE:GREGORIAN
METHOD:PUBLISH
X-ORIGINAL-URL:https://helleniccenter.org
X-WR-CALDESC:Events for The Hellenic Center
REFRESH-INTERVAL;VALUE=DURATION:PT1H
X-Robots-Tag:noindex
X-PUBLISHED-TTL:PT1H
BEGIN:VTIMEZONE
TZID:UTC
BEGIN:STANDARD
TZOFFSETFROM:+0000
TZOFFSETTO:+0000
TZNAME:UTC
DTSTART:20240101T000000
END:STANDARD
END:VTIMEZONE
BEGIN:VEVENT
DTSTART;VALUE=DATE:20251225
DTEND;VALUE=DATE:20251226
DTSTAMP:20260423T072313
CREATED:20250503T022648Z
LAST-MODIFIED:20250503T022648Z
UID:25986-1766620800-1766707199@helleniccenter.org
SUMMARY:Christmas Day Holiday
DESCRIPTION:
URL:https://helleniccenter.org/event/christmas-day-holiday/
CATEGORIES:2nd Floor - Board Room
END:VEVENT
BEGIN:VEVENT
DTSTART;VALUE=DATE:20251220
DTEND;VALUE=DATE:20251221
DTSTAMP:20260423T072313
CREATED:20250503T022559Z
LAST-MODIFIED:20250503T022559Z
UID:25984-1766188800-1766275199@helleniccenter.org
SUMMARY:Cretan Association Monthly Meeting
DESCRIPTION:
URL:https://helleniccenter.org/event/cretan-association-monthly-meeting-6/
CATEGORIES:2nd Floor - Board Room
END:VEVENT
BEGIN:VEVENT
DTSTART;VALUE=DATE:20251216
DTEND;VALUE=DATE:20251217
DTSTAMP:20260423T072313
CREATED:20250503T022531Z
LAST-MODIFIED:20250503T022531Z
UID:25982-1765843200-1765929599@helleniccenter.org
SUMMARY:Vourvoura Society Monthly Meeting
DESCRIPTION:
URL:https://helleniccenter.org/event/vourvoura-society-monthly-meeting-6/
CATEGORIES:2nd Floor - Board Room
END:VEVENT
BEGIN:VEVENT
DTSTART;VALUE=DATE:20251213
DTEND;VALUE=DATE:20251214
DTSTAMP:20260423T072313
CREATED:20250503T022507Z
LAST-MODIFIED:20250503T022507Z
UID:25980-1765584000-1765670399@helleniccenter.org
SUMMARY:Epirotic Society Monthly Meeting
DESCRIPTION:
URL:https://helleniccenter.org/event/epirotic-society-monthly-meeting-6/
CATEGORIES:2nd Floor - Board Room
END:VEVENT
BEGIN:VEVENT
DTSTART;VALUE=DATE:20251211
DTEND;VALUE=DATE:20251212
DTSTAMP:20260423T072313
CREATED:20250503T022431Z
LAST-MODIFIED:20250503T022431Z
UID:25978-1765411200-1765497599@helleniccenter.org
SUMMARY:AHEPA #383 Monthly Meeting
DESCRIPTION:
URL:https://helleniccenter.org/event/ahepa-383-monthly-meeting-6/
CATEGORIES:2nd Floor - Board Room
END:VEVENT
BEGIN:VEVENT
DTSTART;VALUE=DATE:20251210
DTEND;VALUE=DATE:20251211
DTSTAMP:20260423T072313
CREATED:20250503T022353Z
LAST-MODIFIED:20250503T022353Z
UID:25976-1765324800-1765411199@helleniccenter.org
SUMMARY:Prometheas Monthly Meeting
DESCRIPTION:
URL:https://helleniccenter.org/event/prometheas-monthly-meeting-6/
CATEGORIES:2nd Floor - Board Room
END:VEVENT
BEGIN:VEVENT
DTSTART;VALUE=DATE:20251208
DTEND;VALUE=DATE:20251209
DTSTAMP:20260423T072313
CREATED:20250503T022331Z
LAST-MODIFIED:20250503T022331Z
UID:25974-1765152000-1765238399@helleniccenter.org
SUMMARY:Pancretan Association Monthly Meeting
DESCRIPTION:
URL:https://helleniccenter.org/event/pancretan-association-monthly-meeting-6/
CATEGORIES:2nd Floor - Board Room
END:VEVENT
BEGIN:VEVENT
DTSTART;VALUE=DATE:20251203
DTEND;VALUE=DATE:20251204
DTSTAMP:20260423T072313
CREATED:20250503T022302Z
LAST-MODIFIED:20250503T022302Z
UID:25972-1764720000-1764806399@helleniccenter.org
SUMMARY:Hellenic Center Monthly Board Meeting
DESCRIPTION:
URL:https://helleniccenter.org/event/hellenic-center-monthly-board-meeting-7/
CATEGORIES:2nd Floor - Board Room
END:VEVENT
BEGIN:VEVENT
DTSTART;VALUE=DATE:20251202
DTEND;VALUE=DATE:20251203
DTSTAMP:20260423T072313
CREATED:20250503T022233Z
LAST-MODIFIED:20250503T022233Z
UID:25970-1764633600-1764719999@helleniccenter.org
SUMMARY:Laconian Society Monthly Board Meeting
DESCRIPTION:
URL:https://helleniccenter.org/event/laconian-society-monthly-board-meeting-3/
CATEGORIES:2nd Floor - Board Room
END:VEVENT
BEGIN:VEVENT
DTSTART;VALUE=DATE:20251201
DTEND;VALUE=DATE:20251202
DTSTAMP:20260423T072313
CREATED:20250503T022210Z
LAST-MODIFIED:20250503T022210Z
UID:25968-1764547200-1764633599@helleniccenter.org
SUMMARY:Roumeliotes Monthly Board Meeting
DESCRIPTION:
URL:https://helleniccenter.org/event/roumeliotes-monthly-board-meeting-3/
CATEGORIES:2nd Floor - Board Room
END:VEVENT
BEGIN:VEVENT
DTSTART;VALUE=DATE:20251118
DTEND;VALUE=DATE:20251119
DTSTAMP:20260423T072313
CREATED:20250503T022144Z
LAST-MODIFIED:20250503T022144Z
UID:25966-1763424000-1763510399@helleniccenter.org
SUMMARY:Vourvoura Society Monthly Board Meeting
DESCRIPTION:
URL:https://helleniccenter.org/event/vourvoura-society-monthly-board-meeting-2/
CATEGORIES:2nd Floor - Board Room
END:VEVENT
BEGIN:VEVENT
DTSTART;VALUE=DATE:20251115
DTEND;VALUE=DATE:20251116
DTSTAMP:20260423T072313
CREATED:20250503T022120Z
LAST-MODIFIED:20250503T022120Z
UID:25964-1763164800-1763251199@helleniccenter.org
SUMMARY:Cretan Association Monthly Board Meeting
DESCRIPTION:
URL:https://helleniccenter.org/event/cretan-association-monthly-board-meeting-2/
CATEGORIES:2nd Floor - Board Room
END:VEVENT
BEGIN:VEVENT
DTSTART;VALUE=DATE:20251113
DTEND;VALUE=DATE:20251114
DTSTAMP:20260423T072313
CREATED:20250503T022050Z
LAST-MODIFIED:20250503T022050Z
UID:25962-1762992000-1763078399@helleniccenter.org
SUMMARY:AHEPA #383 Monthly Board Meeting
DESCRIPTION:
URL:https://helleniccenter.org/event/ahepa-383-monthly-board-meeting-2/
CATEGORIES:2nd Floor - Board Room
END:VEVENT
BEGIN:VEVENT
DTSTART;VALUE=DATE:20251112
DTEND;VALUE=DATE:20251113
DTSTAMP:20260423T072313
CREATED:20250503T022021Z
LAST-MODIFIED:20250503T022021Z
UID:25960-1762905600-1762991999@helleniccenter.org
SUMMARY:Prometheas Monthly Board Meeting
DESCRIPTION:
URL:https://helleniccenter.org/event/prometheas-monthly-board-meeting-2/
CATEGORIES:2nd Floor - Board Room
END:VEVENT
BEGIN:VEVENT
DTSTART;VALUE=DATE:20251110
DTEND;VALUE=DATE:20251111
DTSTAMP:20260423T072313
CREATED:20250503T021951Z
LAST-MODIFIED:20250503T021951Z
UID:25958-1762732800-1762819199@helleniccenter.org
SUMMARY:Pancretan Association Monthly Board Meeting
DESCRIPTION:
URL:https://helleniccenter.org/event/pancretan-association-monthly-board-meeting-2/
CATEGORIES:2nd Floor - Board Room
END:VEVENT
BEGIN:VEVENT
DTSTART;VALUE=DATE:20251108
DTEND;VALUE=DATE:20251109
DTSTAMP:20260423T072313
CREATED:20250503T021925Z
LAST-MODIFIED:20250503T021925Z
UID:25956-1762560000-1762646399@helleniccenter.org
SUMMARY:Epirotic Society Monthly Board Meeting
DESCRIPTION:
URL:https://helleniccenter.org/event/epirotic-society-monthly-board-meeting-2/
CATEGORIES:2nd Floor - Board Room
END:VEVENT
BEGIN:VEVENT
DTSTART;VALUE=DATE:20251105
DTEND;VALUE=DATE:20251106
DTSTAMP:20260423T072313
CREATED:20250503T021858Z
LAST-MODIFIED:20250503T021858Z
UID:25954-1762300800-1762387199@helleniccenter.org
SUMMARY:Hellenic Center Monthly Board Meeting
DESCRIPTION:
URL:https://helleniccenter.org/event/hellenic-center-monthly-board-meeting-6/
CATEGORIES:2nd Floor - Board Room
END:VEVENT
BEGIN:VEVENT
DTSTART;VALUE=DATE:20251104
DTEND;VALUE=DATE:20251105
DTSTAMP:20260423T072313
CREATED:20250503T021829Z
LAST-MODIFIED:20250503T021829Z
UID:25952-1762214400-1762300799@helleniccenter.org
SUMMARY:Laconian Society Monthly Board Meeting
DESCRIPTION:
URL:https://helleniccenter.org/event/laconian-society-monthly-board-meeting-2/
CATEGORIES:2nd Floor - Board Room
END:VEVENT
BEGIN:VEVENT
DTSTART;VALUE=DATE:20251103
DTEND;VALUE=DATE:20251104
DTSTAMP:20260423T072313
CREATED:20250503T021802Z
LAST-MODIFIED:20250503T021802Z
UID:25950-1762128000-1762214399@helleniccenter.org
SUMMARY:Roumeliotes Monthly Board Meeting
DESCRIPTION:
URL:https://helleniccenter.org/event/roumeliotes-monthly-board-meeting-2/
CATEGORIES:2nd Floor - Board Room
END:VEVENT
BEGIN:VEVENT
DTSTART;TZID=UTC:20251028T180000
DTEND;TZID=UTC:20251028T180000
DTSTAMP:20260423T072313
CREATED:20240820T193327Z
LAST-MODIFIED:20250220T023453Z
UID:25110-1761674400-1761674400@helleniccenter.org
SUMMARY:OXI Day
DESCRIPTION:At the Hellenic Center
URL:https://helleniccenter.org/event/oxi-day/
END:VEVENT
BEGIN:VEVENT
DTSTART;VALUE=DATE:20251021
DTEND;VALUE=DATE:20251022
DTSTAMP:20260423T072313
CREATED:20250503T021734Z
LAST-MODIFIED:20250503T021734Z
UID:25948-1761004800-1761091199@helleniccenter.org
SUMMARY:Vourvoura Society Monthly Board Meeting
DESCRIPTION:
URL:https://helleniccenter.org/event/vourvoura-society-monthly-board-meeting/
CATEGORIES:2nd Floor - Board Room
END:VEVENT
BEGIN:VEVENT
DTSTART;VALUE=DATE:20251018
DTEND;VALUE=DATE:20251019
DTSTAMP:20260423T072313
CREATED:20250503T021705Z
LAST-MODIFIED:20250503T021705Z
UID:25946-1760745600-1760831999@helleniccenter.org
SUMMARY:Cretan Association Monthly Board Meeting
DESCRIPTION:
URL:https://helleniccenter.org/event/cretan-association-monthly-board-meeting/
CATEGORIES:2nd Floor - Board Room
END:VEVENT
BEGIN:VEVENT
DTSTART;VALUE=DATE:20251013
DTEND;VALUE=DATE:20251014
DTSTAMP:20260423T072313
CREATED:20250503T021638Z
LAST-MODIFIED:20250503T021638Z
UID:25944-1760313600-1760399999@helleniccenter.org
SUMMARY:Pancretan Association Monthly Board Meeting
DESCRIPTION:
URL:https://helleniccenter.org/event/pancretan-association-monthly-board-meeting/
CATEGORIES:2nd Floor - Board Room
END:VEVENT
BEGIN:VEVENT
DTSTART;TZID=UTC:20251012T150000
DTEND;TZID=UTC:20251012T190000
DTSTAMP:20260423T072313
CREATED:20250503T183735Z
LAST-MODIFIED:20250503T183918Z
UID:26127-1760281200-1760295600@helleniccenter.org
SUMMARY:Hellenic Center Golden Jubilee
DESCRIPTION:Celebrating a 50-year journey. Lakewood Country Club: 13901 Glen Mill Rd\, Rockville\, MD 20850
URL:https://helleniccenter.org/event/hellenic-center-golden-jubilee/
CATEGORIES:Celebration
END:VEVENT
BEGIN:VEVENT
DTSTART;VALUE=DATE:20251011
DTEND;VALUE=DATE:20251012
DTSTAMP:20260423T072313
CREATED:20250503T021614Z
LAST-MODIFIED:20250503T021614Z
UID:25942-1760140800-1760227199@helleniccenter.org
SUMMARY:Epirotic Society Monthly Board Meeting
DESCRIPTION:
URL:https://helleniccenter.org/event/epirotic-society-monthly-board-meeting/
CATEGORIES:2nd Floor - Board Room
END:VEVENT
BEGIN:VEVENT
DTSTART;VALUE=DATE:20251009
DTEND;VALUE=DATE:20251010
DTSTAMP:20260423T072313
CREATED:20250503T021548Z
LAST-MODIFIED:20250503T021548Z
UID:25940-1759968000-1760054399@helleniccenter.org
SUMMARY:AHEPA #383 Monthly Board Meeting
DESCRIPTION:
URL:https://helleniccenter.org/event/ahepa-383-monthly-board-meeting/
CATEGORIES:2nd Floor - Board Room
END:VEVENT
BEGIN:VEVENT
DTSTART;VALUE=DATE:20251008
DTEND;VALUE=DATE:20251009
DTSTAMP:20260423T072313
CREATED:20250503T021518Z
LAST-MODIFIED:20250503T021518Z
UID:25938-1759881600-1759967999@helleniccenter.org
SUMMARY:Prometheas Monthly Board Meeting
DESCRIPTION:
URL:https://helleniccenter.org/event/prometheas-monthly-board-meeting/
CATEGORIES:2nd Floor - Board Room
END:VEVENT
BEGIN:VEVENT
DTSTART;VALUE=DATE:20251007
DTEND;VALUE=DATE:20251008
DTSTAMP:20260423T072313
CREATED:20250503T021452Z
LAST-MODIFIED:20250503T021452Z
UID:25936-1759795200-1759881599@helleniccenter.org
SUMMARY:Laconian Society Monthly Board Meeting
DESCRIPTION:
URL:https://helleniccenter.org/event/laconian-society-monthly-board-meeting/
CATEGORIES:2nd Floor - Board Room
END:VEVENT
BEGIN:VEVENT
DTSTART;VALUE=DATE:20251006
DTEND;VALUE=DATE:20251007
DTSTAMP:20260423T072313
CREATED:20250503T021424Z
LAST-MODIFIED:20250503T021424Z
UID:25934-1759708800-1759795199@helleniccenter.org
SUMMARY:Roumeliotes Monthly Board Meeting
DESCRIPTION:
URL:https://helleniccenter.org/event/roumeliotes-monthly-board-meeting/
CATEGORIES:2nd Floor - Board Room
END:VEVENT
BEGIN:VEVENT
DTSTART;VALUE=DATE:20251001
DTEND;VALUE=DATE:20251002
DTSTAMP:20260423T072313
CREATED:20250503T021307Z
LAST-MODIFIED:20250503T021337Z
UID:25931-1759276800-1759363199@helleniccenter.org
SUMMARY:Hellenic Center Monthly Board Meeting
DESCRIPTION:
URL:https://helleniccenter.org/event/cretan-association-monthly-meeting-5/
CATEGORIES:2nd Floor - Board Room
END:VEVENT
END:VCALENDAR